Workbook

Sheet Beurteilungsschema
B3: Bewertungsschema für Studien-
B4: und Diplomarbeiten
B8: Name: | E8: Karl Musterstudent | G8: Matr.-Nr.: | H8: 19 47 11
B10: Thema: | E10: Wirkmodell zur situativen Auswahl von Vorgehensschritten in Umstrukturierungsprojekten
B13: Betreuer/in: | E13: Heinrich Musterassi
H14: Gewichtung | I14: Teilnoten
B15: I | C15: Erfüllung der Aufgabe | H15: =SUM(H17:H30) -> 11 | I15: =(H17*I17+H19*I19+H21*I21+H23*I23+H26*I26+H28*I28)/H15 -> 1.2727273
D17: Problemerkenntnis und -abgrenzung | H17: ='Paarweiser Vergleich'!X3 -> 2 | I17: 1
M18: 1.3
D19: Problemstrukturierung | H19: ='Paarweiser Vergleich'!X4 -> 3 | I19: 1
D21: Vergleich des Ergebnisses mit der Aufgabenstellung | H21: ='Paarweiser Vergleich'!X5 -> 2 | I21: 1
I22: 1
D23: Problembezug der Ausführungen / Argumentationsweise | H23: ='Paarweiser Vergleich'!X6 -> 2 | I23: 1
D25: Inhaltliche Tiefe und Breite / Fachwissen und
D26: Urteilsvermögen | H26: ='Paarweiser Vergleich'!X7 -> 3 | I26: 1
D28: Verwendung der Literatur | H28: ='Paarweiser Vergleich'!X8 -> 2 | I28: 1
D30: Schwierigkeitsgrad der Aufgabenstellung | H30: =IF(I30=I82,K82,IF(I30=I83,K83,IF(I30=I84,K84,"ERROR"))) -> -3 | I30: unterdurchschnittlich
B32: II | C32: Bewertung des Erstellungsprozesses | H32: =SUM(H35:H37) -> 2 | I32: =(H35*I35+H37*I37)/H32 -> 1.65
D34: Einhalten von Meilensteinen / Dauer der Arbeit / Einsatz
D35: und Zeitaufwand | H35: ='Paarweiser Vergleich'!X10 -> 1 | I35: 2
I36: 1.3
D37: Eigeninitiative und Selbständigkeit | H37: ='Paarweiser Vergleich'!X11 -> 1 | I37: 1.3
B39: III | C39: Form der Darstellung (schriftlich/mündlich) | H39: =SUM(H41:H51) -> 8 | I39: =(H41*I41+H43*I43+H45*I45+H47*I47+H49*I49+H51*I51)/H39 -> 1.75
D41: Grobaufbau | H41: ='Paarweiser Vergleich'!X13 -> 2 | I41: 2.3
D43: Feinaufbau | H43: ='Paarweiser Vergleich'!X14 -> 2 | I43: 1.3
D45: Überschriften | H45: ='Paarweiser Vergleich'!X15 -> 1 | I45: 1.7
D47: Inhaltliche Aspekte der Darstellung | H47: ='Paarweiser Vergleich'!X16 -> 1 | I47: 1.7
D49: Stilistische Aspekte | H49: ='Paarweiser Vergleich'!X17 -> 1 | I49: 1.7
D51: Bewertung der äußeren Form | H51: ='Paarweiser Vergleich'!X18 -> 1 | I51: 1.7
B53: Rechnerische Gesamtnote | H53: =H39+H32+H15 -> 21 | I53: =(I39*H39+I32*H32+I15*H15)/H53 -> 1.4904762
B57: Vergebene Gesamtnote | I57: 1.3
B60: Unterschrift des Betreuers
B62: Notenschlüssel
D63: außergewöhnlich | G63: 1
D64: tadelsfrei, überdurchschnittlich | G64: 1,3; 1,7
D65: gut, durchschnittlich | G65: 2,0 ;2,3
D66: mittelmäßig, mit kleinen Mängeln | G66: 2,7; 3,0; 3,3
D67: mit größeren Mängeln, noch ausreichend | G67: 3,7; 4,0
D68: Aufgabe nicht erfüllt | G68: 5
I70: 1
...

Sheet Paarweiser Vergleich
B1: Erfüllung der Aufgabe | C1: Problemerkenntnis und -abgrenzung | D1: Problemstrukturierung | E1: Vergleich des Ergebnisses mit der Aufgabenstellung | F1: Problembezug der Ausführungen/ Argumentationsweise | G1: Inhaltliche Tiefe und Breite/ Fachwissen und Urteilsvermögen | H1: Verwendung der Literatur | I1: Bewertung des Erstellungsprozesses | J1: Einhalten von Meilensteinen/ Dauer der Arbeit/ Einsatz und Zeitaufwand | K1: Eigeninitiative und Selbständigkeit | L1: Form der Darstellung (schriftlich/mündlich) | M1: Grobaufbau | N1: Feinaufbau | O1: Überschriften | P1: Inhaltliche Aspekte der Darstellung | Q1: Stilistische Aspekte | R1: Bewertung der äußeren Form | T1: Zeilenvektor | U1: Spaltenverktor | V1: Summe | W1: Normierung | X1: Normierung auf eingeschränkte Skala
A2: Erfüllung der Aufgabe
A3: Problemerkenntnis und -abgrenzung | D3: 1 | E3: -1 | F3: 1 | G3: -1 | H3: -1 | J3: 1 | K3: 1 | M3: 1 | N3: 1 | O3: 1 | P3: 1 | Q3: 1 | R3: 1 | T3: =SUM(B3:R3) -> 7 | U3: =-C19 -> 0 | V3: =SUM(T3:U3) -> 7 | W3: =V3+(-MIN(V$3:V$18)+1) -> 21 | X3: =ROUNDUP((W3-MIN(W$3:W$18)+1)/(MAX(W$3:W$18)-MIN(W$3:W$18))*(MAX(X$23:X$24)-MIN(X$23:X$24)),0) -> 2
A4: Problemstrukturierung | E4: 1 | F4: 1 | G4: 1 | H4: 1 | J4: 1 | K4: 1 | M4: 1 | N4: 1 | O4: 1 | P4: 1 | Q4: 1 | R4: 1 | T4: =SUM(B4:R4) -> 12 | U4: =-D19 -> -1 | V4: =SUM(T4:U4) -> 11 | W4: =V4+(-MIN(V$3:V$18)+1) -> 25 | X4: =ROUNDUP((W4-MIN(W$3:W$18)+1)/(MAX(W$3:W$18)-MIN(W$3:W$18))*(MAX(X$23:X$24)-MIN(X$23:X$24)),0) -> 3
A5: Vergleich des Ergebnisses mit der Aufgabenstellung | F5: 1 | G5: -1 | H5: 1 | J5: 1 | K5: 1 | M5: 1 | N5: 1 | O5: 1 | P5: 1 | Q5: 1 | R5: 1 | T5: =SUM(B5:R5) -> 9 | U5: =-E19 -> 0 | V5: =SUM(T5:U5) -> 9 | W5: =V5+(-MIN(V$3:V$18)+1) -> 23 | X5: =ROUNDUP((W5-MIN(W$3:W$18)+1)/(MAX(W$3:W$18)-MIN(W$3:W$18))*(MAX(X$23:X$24)-MIN(X$23:X$24)),0) -> 2
A6: Problembezug der Ausführungen/ Argumentationsweise | G6: -1 | H6: 1 | J6: 1 | K6: 1 | M6: 1 | N6: 1 | O6: 1 | P6: 1 | Q6: 1 | R6: 1 | T6: =SUM(B6:R6) -> 8 | U6: =-F19 -> -3 | V6: =SUM(T6:U6) -> 5 | W6: =V6+(-MIN(V$3:V$18)+1) -> 19 | X6: =ROUNDUP((W6-MIN(W$3:W$18)+1)/(MAX(W$3:W$18)-MIN(W$3:W$18))*(MAX(X$23:X$24)-MIN(X$23:X$24)),0) -> 2
A7: Inhaltliche Tiefe und Breite/ Fachwissen und Urteilsvermögen | H7: 1 | J7: 1 | K7: 1 | M7: 1 | N7: 1 | O7: 1 | P7: 1 | Q7: 1 | R7: 1 | T7: =SUM(B7:R7) -> 9 | U7: =-G19 -> 2 | V7: =SUM(T7:U7) -> 11 | W7: =V7+(-MIN(V$3:V$18)+1) -> 25 | X7: =ROUNDUP((W7-MIN(W$3:W$18)+1)/(MAX(W$3:W$18)-MIN(W$3:W$18))*(MAX(X$23:X$24)-MIN(X$23:X$24)),0) -> 3
A8: Verwendung der Literatur | J8: 1 | K8: 1 | M8: 1 | N8: 1 | O8: 1 | P8: 1 | Q8: 1 | R8: 1 | T8: =SUM(B8:R8) -> 8 | U8: =-H19 -> -3 | V8: =SUM(T8:U8) -> 5 | W8: =V8+(-MIN(V$3:V$18)+1) -> 19 | X8: =ROUNDUP((W8-MIN(W$3:W$18)+1)/(MAX(W$3:W$18)-MIN(W$3:W$18))*(MAX(X$23:X$24)-MIN(X$23:X$24)),0) -> 2
A9: Bewertung des Erstellungsprozesses
A10: Einhalten von Meilensteinen/ Dauer der Arbeit/ Einsatz und Zeitaufwand | K10: -1 | M10: -1 | N10: -1 | O10: 1 | P10: 1 | Q10: 1 | R10: 1 | T10: =SUM(B10:R10) -> 1 | U10: =-J19 -> -6 | V10: =SUM(T10:U10) -> -5 | W10: =V10+(-MIN(V$3:V$18)+1) -> 9 | X10: =ROUNDUP((W10-MIN(W$3:W$18)+1)/(MAX(W$3:W$18)-MIN(W$3:W$18))*(MAX(X$23:X$24)-MIN(X$23:X$24)),0) -> 1
A11: Eigeninitiative und Selbständigkeit | M11: -1 | N11: -1 | O11: 1 | P11: 1 | Q11: 1 | R11: 1 | T11: =SUM(B11:R11) -> 2 | U11: =-K19 -> -5 | V11: =SUM(T11:U11) -> -3 | W11: =V11+(-MIN(V$3:V$18)+1) -> 11 | X11: =ROUNDUP((W11-MIN(W$3:W$18)+1)/(MAX(W$3:W$18)-MIN(W$3:W$18))*(MAX(X$23:X$24)-MIN(X$23:X$24)),0) -> 1
A12: Form der Darstellung (schriftlich/mündlich)
A13: Grobaufbau | N13: 1 | O13: 1 | P13: 1 | Q13: 1 | R13: 1 | T13: =SUM(B13:R13) -> 5 | U13: =-M19 -> -4 | V13: =SUM(T13:U13) -> 1 | W13: =V13+(-MIN(V$3:V$18)+1) -> 15 | X13: =ROUNDUP((W13-MIN(W$3:W$18)+1)/(MAX(W$3:W$18)-MIN(W$3:W$18))*(MAX(X$23:X$24)-MIN(X$23:X$24)),0) -> 2
A14: Feinaufbau | O14: 1 | P14: 1 | Q14: 1 | R14: 1 | T14: =SUM(B14:R14) -> 4 | U14: =-N19 -> -5 | V14: =SUM(T14:U14) -> -1 | W14: =V14+(-MIN(V$3:V$18)+1) -> 13 | X14: =ROUNDUP((W14-MIN(W$3:W$18)+1)/(MAX(W$3:W$18)-MIN(W$3:W$18))*(MAX(X$23:X$24)-MIN(X$23:X$24)),0) -> 2
A15: Überschriften | P15: -1 | Q15: -1 | R15: 1 | T15: =SUM(B15:R15) -> -1 | U15: =-O19 -> -10 | V15: =SUM(T15:U15) -> -11 | W15: =V15+(-MIN(V$3:V$18)+1) -> 3 | X15: =ROUNDUP((W15-MIN(W$3:W$18)+1)/(MAX(W$3:W$18)-MIN(W$3:W$18))*(MAX(X$23:X$24)-MIN(X$23:X$24)),0) -> 1
A16: Inhaltliche Aspekte der Darstellung | Q16: 1 | R16: 1 | T16: =SUM(B16:R16) -> 2 | U16: =-P19 -> -9 | V16: =SUM(T16:U16) -> -7 | W16: =V16+(-MIN(V$3:V$18)+1) -> 7 | X16: =ROUNDUP((W16-MIN(W$3:W$18)+1)/(MAX(W$3:W$18)-MIN(W$3:W$18))*(MAX(X$23:X$24)-MIN(X$23:X$24)),0) -> 1
A17: Stilistische Aspekte | R17: 1 | T17: =SUM(B17:R17) -> 1 | U17: =-Q19 -> -10 | V17: =SUM(T17:U17) -> -9 | W17: =V17+(-MIN(V$3:V$18)+1) -> 5 | X17: =ROUNDUP((W17-MIN(W$3:W$18)+1)/(MAX(W$3:W$18)-MIN(W$3:W$18))*(MAX(X$23:X$24)-MIN(X$23:X$24)),0) -> 1
A18: Bewertung der äußeren Form | T18: =SUM(B18:R18) -> 0 | U18: =-R19 -> -13 | V18: =SUM(T18:U18) -> -13 | W18: =V18+(-MIN(V$3:V$18)+1) -> 1 | X18: =ROUNDUP((W18-MIN(W$3:W$18)+1)/(MAX(W$3:W$18)-MIN(W$3:W$18))*(MAX(X$23:X$24)-MIN(X$23:X$24)),0) -> 1
C19: =SUM(C2:C18) -> 0 | D19: =SUM(D2:D18) -> 1 | E19: =SUM(E2:E18) -> 0 | F19: =SUM(F2:F18) -> 3 | G19: =SUM(G2:G18) -> -2 | H19: =SUM(H2:H18) -> 3 | J19: =SUM(J2:J18) -> 6 | K19: =SUM(K2:K18) -> 5 | M19: =SUM(M2:M18) -> 4 | N19: =SUM(N2:N18) -> 5 | O19: =SUM(O2:O18) -> 10 | P19: =SUM(P2:P18) -> 9 | Q19: =SUM(Q2:Q18) -> 10 | R19: =SUM(R2:R18) -> 13
C22: Legende: | W22: Skala:
C23: 1 = Zeilenkriterium ist wichtiger als Spaltenkriterium | W23: Max: | X23: 3
C24: 0 = Kriterien gleich wichtig | W24: Min: | X24: 1
C25: -1 = Zeilenkriterium ist weniger wichtig als Spaltenkriterium
